BEGIN:VCALENDAR
VERSION:2.0
PRODID:-//Plone.org//NONSGML plone.app.event//EN
X-WR-TIMEZONE:Europe/Berlin
BEGIN:VEVENT
SUMMARY:GoWest Bunte Streifen zeigt Callas\, Darling
DTSTART;TZID=Europe/Berlin:20250628T170000
DTSTAMP:20260422T195935Z
UID:04ebb9fb14b7462f9514f82468b3e4e7@zmi.spielboden.at
CREATED:20250514T072912Z
LAST-MODIFIED:20250514T072917Z
URL:https://zmi.spielboden.at/Plone/veranstaltungen/2025/06_juni/gowest-bu
 nte-streifen-zeigt-callas-darling
END:VEVENT
BEGIN:VTIMEZONE
TZID:Europe/Berlin
X-LIC-LOCATION:Europe/Berlin
BEGIN:DAYLIGHT
DTSTART:20250330T030000
TZNAME:CEST
TZOFFSETFROM:+0100
TZOFFSETTO:+0200
END:DAYLIGHT
END:VTIMEZONE
END:VCALENDAR
