BEGIN:VCALENDAR
VERSION:2.0
PRODID:-//Plone.org//NONSGML plone.app.event//EN
X-WR-TIMEZONE:Europe/Berlin
BEGIN:VEVENT
SUMMARY:Ernest Cole: Lost and Found
DTSTART;TZID=Europe/Berlin:20250612T193000
DTSTAMP:20260421T143934Z
UID:ce7c54c4407c4eb49a3dedf67287405c@zmi.spielboden.at
CREATED:20250514T071352Z
LAST-MODIFIED:20250612T061828Z
URL:https://zmi.spielboden.at/Plone/veranstaltungen/2025/06_juni/ernest-co
 le-lost-and-found
END:VEVENT
BEGIN:VTIMEZONE
TZID:Europe/Berlin
X-LIC-LOCATION:Europe/Berlin
BEGIN:DAYLIGHT
DTSTART:20250330T030000
TZNAME:CEST
TZOFFSETFROM:+0100
TZOFFSETTO:+0200
END:DAYLIGHT
END:VTIMEZONE
END:VCALENDAR
