BEGIN:VCALENDAR
VERSION:2.0
PRODID:-//Plone.org//NONSGML plone.app.event//EN
X-WR-TIMEZONE:Europe/Berlin
BEGIN:VEVENT
SUMMARY:Architektur und Film: E.1027 – Eileen Gray und das Haus am Meer
DTSTART;TZID=Europe/Berlin:20250603T193000
DTSTAMP:20260421T104445Z
UID:6b5e6fc8dece4358803619da1e89422f@zmi.spielboden.at
CREATED:20250429T123647Z
LAST-MODIFIED:20250603T081102Z
URL:https://zmi.spielboden.at/Plone/veranstaltungen/2025/06_juni/architekt
 ur-und-film-e-1027-eileen-gray-und-das-haus-am-meer
END:VEVENT
BEGIN:VTIMEZONE
TZID:Europe/Berlin
X-LIC-LOCATION:Europe/Berlin
BEGIN:DAYLIGHT
DTSTART:20250330T030000
TZNAME:CEST
TZOFFSETFROM:+0100
TZOFFSETTO:+0200
END:DAYLIGHT
END:VTIMEZONE
END:VCALENDAR
