BEGIN:VCALENDAR
VERSION:2.0
PRODID:-//Plone.org//NONSGML plone.app.event//EN
X-WR-TIMEZONE:Europe/Berlin
BEGIN:VEVENT
SUMMARY:Zusatzvorstellung | Architektur und Film: E.1027 – Eileen Gray u
 nd das Haus am Meer
DTSTART;TZID=Europe/Berlin:20250616T193000
DTSTAMP:20260422T145746Z
UID:4123c83d616e46ea8083e07b74d1be48@zmi.spielboden.at
CREATED:20250611T135554Z
LAST-MODIFIED:20250616T085305Z
URL:https://zmi.spielboden.at/Plone/veranstaltungen/2025/06_juni/architekt
 ur-und-film-e-1027-eileen-gray-und-das-haus-am-meer-2
END:VEVENT
BEGIN:VTIMEZONE
TZID:Europe/Berlin
X-LIC-LOCATION:Europe/Berlin
BEGIN:DAYLIGHT
DTSTART:20250330T030000
TZNAME:CEST
TZOFFSETFROM:+0100
TZOFFSETTO:+0200
END:DAYLIGHT
END:VTIMEZONE
END:VCALENDAR
