BEGIN:VCALENDAR
VERSION:2.0
PRODID:-//Plone.org//NONSGML plone.app.event//EN
X-WR-TIMEZONE:Europe/Berlin
BEGIN:VEVENT
SUMMARY:Architektur und Film: E.1027 – Eileen Gray und das Haus am Meer
DTSTART;TZID=Europe/Berlin:20250611T193000
DTSTAMP:20260421T104437Z
UID:cccfbdbdd77e46c293007255ca17176b@zmi.spielboden.at
CREATED:20250429T125100Z
LAST-MODIFIED:20250611T140540Z
URL:https://zmi.spielboden.at/Plone/veranstaltungen/2025/06_juni/architekt
 ur-und-film-e-1027-eileen-gray-und-das-haus-am-meer-1
END:VEVENT
BEGIN:VTIMEZONE
TZID:Europe/Berlin
X-LIC-LOCATION:Europe/Berlin
BEGIN:DAYLIGHT
DTSTART:20250330T030000
TZNAME:CEST
TZOFFSETFROM:+0100
TZOFFSETTO:+0200
END:DAYLIGHT
END:VTIMEZONE
END:VCALENDAR
