BEGIN:VCALENDAR
VERSION:2.0
PRODID:-//Plone.org//NONSGML plone.app.event//EN
X-WR-TIMEZONE:Europe/Berlin
BEGIN:VEVENT
SUMMARY:Akkordeonale
DTSTART;TZID=Europe/Berlin:20250511T200000
DTSTAMP:20260421T120126Z
UID:d554d41b04b548c9b90d5e87dda49ba8@zmi.spielboden.at
CREATED:20241206T081526Z
LAST-MODIFIED:20250511T151846Z
URL:https://zmi.spielboden.at/Plone/veranstaltungen/2025/05_mai/akkordeona
 le
END:VEVENT
BEGIN:VTIMEZONE
TZID:Europe/Berlin
X-LIC-LOCATION:Europe/Berlin
BEGIN:DAYLIGHT
DTSTART:20250330T030000
TZNAME:CEST
TZOFFSETFROM:+0100
TZOFFSETTO:+0200
END:DAYLIGHT
END:VTIMEZONE
END:VCALENDAR
