BEGIN:VCALENDAR
VERSION:2.0
PRODID:-//Plone.org//NONSGML plone.app.event//EN
X-WR-TIMEZONE:Europe/Berlin
BEGIN:VEVENT
SUMMARY:Tony\, Shelly und das magische Licht
DTSTART;TZID=Europe/Berlin:20250412T150000
DTSTAMP:20260421T134610Z
UID:e0f3a1b6e56a4c16a0fe095262021024@zmi.spielboden.at
CREATED:20250103T093421Z
DESCRIPTION:Empfohlen ab 8 Jahren
LAST-MODIFIED:20250412T114607Z
URL:https://zmi.spielboden.at/Plone/veranstaltungen/2025/04_april/tony-she
 lly-und-das-magische-licht
END:VEVENT
BEGIN:VTIMEZONE
TZID:Europe/Berlin
X-LIC-LOCATION:Europe/Berlin
BEGIN:DAYLIGHT
DTSTART:20250330T030000
TZNAME:CEST
TZOFFSETFROM:+0100
TZOFFSETTO:+0200
END:DAYLIGHT
END:VTIMEZONE
END:VCALENDAR
