BEGIN:VCALENDAR
VERSION:2.0
PRODID:-//Plone.org//NONSGML plone.app.event//EN
X-WR-TIMEZONE:Europe/Berlin
BEGIN:VEVENT
SUMMARY:Planet C - Bis hierhin und wie weiter?
DTSTART;TZID=Europe/Berlin:20250313T193000
DTSTAMP:20260423T020221Z
UID:7ef0f43addcb4358a98d28efc520dd7b@zmi.spielboden.at
CREATED:20250226T072430Z
LAST-MODIFIED:20250513T115634Z
URL:https://zmi.spielboden.at/Plone/veranstaltungen/2025/03_maerz/planet-c
 -bis-hierhin-und-wie-weiter
END:VEVENT
BEGIN:VTIMEZONE
TZID:Europe/Berlin
X-LIC-LOCATION:Europe/Berlin
BEGIN:STANDARD
DTSTART:20241027T020000
TZNAME:CET
TZOFFSETFROM:+0200
TZOFFSETTO:+0100
END:STANDARD
END:VTIMEZONE
END:VCALENDAR
