BEGIN:VCALENDAR
VERSION:2.0
PRODID:-//Plone.org//NONSGML plone.app.event//EN
X-WR-TIMEZONE:Europe/Berlin
BEGIN:VEVENT
SUMMARY:Ida Kelarová: Open your Heart\, Open your Voice and Sing
DTSTART;VALUE=DATE:20250320
DTEND;VALUE=DATE:20250324
DTSTAMP:20260426T052540Z
UID:08293239625f49fd938f0efaa9ddee14@zmi.spielboden.at
CREATED:20250114T110631Z
LAST-MODIFIED:20250318T175927Z
URL:https://zmi.spielboden.at/Plone/veranstaltungen/2025/03_maerz/ida-kela
 rova-open-your-heart-open-your-voice-and-sing
END:VEVENT
END:VCALENDAR
