BEGIN:VCALENDAR
VERSION:2.0
PRODID:-//Plone.org//NONSGML plone.app.event//EN
X-WR-TIMEZONE:Europe/Berlin
BEGIN:VEVENT
SUMMARY:Neue Geschichten vom Franz
DTSTART;TZID=Europe/Berlin:20240921T150000
DTSTAMP:20260421T134648Z
UID:ac80bad44ac2439aa98e426e702f8186@zmi.spielboden.at
CREATED:20240709T072351Z
LAST-MODIFIED:20240920T175003Z
URL:https://zmi.spielboden.at/Plone/veranstaltungen/2024/09_september/neue
 -geschichten-vom-franz
END:VEVENT
BEGIN:VTIMEZONE
TZID:Europe/Berlin
X-LIC-LOCATION:Europe/Berlin
BEGIN:DAYLIGHT
DTSTART:20240331T030000
TZNAME:CEST
TZOFFSETFROM:+0100
TZOFFSETTO:+0200
END:DAYLIGHT
END:VTIMEZONE
END:VCALENDAR
