BEGIN:VCALENDAR
VERSION:2.0
PRODID:-//Plone.org//NONSGML plone.app.event//EN
X-WR-TIMEZONE:Europe/Berlin
BEGIN:VEVENT
SUMMARY:Fuckup Night Vorarlberg VOL. 15
DTSTART;TZID=Europe/Berlin:20240710T183000
DTSTAMP:20260419T163827Z
UID:bd665cfbf90642b2abbd1af610c73947@zmi.spielboden.at
CREATED:20240621T063459Z
LAST-MODIFIED:20240626T152910Z
URL:https://zmi.spielboden.at/Plone/veranstaltungen/2024/07_juli/fuckup-ni
 ght-vorarlberg-vol-15
END:VEVENT
BEGIN:VTIMEZONE
TZID:Europe/Berlin
X-LIC-LOCATION:Europe/Berlin
BEGIN:DAYLIGHT
DTSTART:20240331T030000
TZNAME:CEST
TZOFFSETFROM:+0100
TZOFFSETTO:+0200
END:DAYLIGHT
END:VTIMEZONE
END:VCALENDAR
