BEGIN:VCALENDAR
VERSION:2.0
PRODID:-//Plone.org//NONSGML plone.app.event//EN
X-WR-TIMEZONE:Europe/Berlin
BEGIN:VEVENT
SUMMARY:Rubey & Schwarz - Das Restaurant
DTSTART;TZID=Europe/Berlin:20240419T200000
DTSTAMP:20260421T115742Z
UID:e6c430392dc941b985ca195423646a00@zmi.spielboden.at
CREATED:20230516T063359Z
LAST-MODIFIED:20240418T180011Z
URL:https://zmi.spielboden.at/Plone/veranstaltungen/2024/04_april/rubey-sc
 hwarz-das-restaurant
END:VEVENT
BEGIN:VTIMEZONE
TZID:Europe/Berlin
X-LIC-LOCATION:Europe/Berlin
BEGIN:DAYLIGHT
DTSTART:20240331T030000
TZNAME:CEST
TZOFFSETFROM:+0100
TZOFFSETTO:+0200
END:DAYLIGHT
END:VTIMEZONE
END:VCALENDAR
