BEGIN:VCALENDAR
VERSION:2.0
PRODID:-//Plone.org//NONSGML plone.app.event//EN
X-WR-TIMEZONE:Europe/Berlin
BEGIN:VEVENT
SUMMARY:Rubey & Schwarz - Das Restaurant | ZUSATZVORSTELLUNG
DTSTART;TZID=Europe/Berlin:20240419T160000
DTSTAMP:20260422T005353Z
UID:963ebfb82adc400984ca441f1b9f22bd@zmi.spielboden.at
CREATED:20240228T113218Z
LAST-MODIFIED:20240419T071530Z
URL:https://zmi.spielboden.at/Plone/veranstaltungen/2024/04_april/rubey-sc
 hwarz-das-restaurant-zusatztermin
END:VEVENT
BEGIN:VTIMEZONE
TZID:Europe/Berlin
X-LIC-LOCATION:Europe/Berlin
BEGIN:DAYLIGHT
DTSTART:20240331T030000
TZNAME:CEST
TZOFFSETFROM:+0100
TZOFFSETTO:+0200
END:DAYLIGHT
END:VTIMEZONE
END:VCALENDAR
