BEGIN:VCALENDAR
VERSION:2.0
PRODID:-//Plone.org//NONSGML plone.app.event//EN
X-WR-TIMEZONE:Europe/Berlin
BEGIN:VEVENT
SUMMARY:Pub Quiz
DTSTART;TZID=Europe/Berlin:20240404T193000
DTSTAMP:20260422T064029Z
UID:535735ef5c5d4214bdedee2f9bb6f6d2@zmi.spielboden.at
CREATED:20240228T094339Z
LAST-MODIFIED:20240304T124436Z
URL:https://zmi.spielboden.at/Plone/veranstaltungen/2024/04_april/pub-quiz
END:VEVENT
BEGIN:VTIMEZONE
TZID:Europe/Berlin
X-LIC-LOCATION:Europe/Berlin
BEGIN:DAYLIGHT
DTSTART:20240331T030000
TZNAME:CEST
TZOFFSETFROM:+0100
TZOFFSETTO:+0200
END:DAYLIGHT
END:VTIMEZONE
END:VCALENDAR
