BEGIN:VCALENDAR
VERSION:2.0
PRODID:-//Plone.org//NONSGML plone.app.event//EN
X-WR-TIMEZONE:Europe/Berlin
BEGIN:VEVENT
SUMMARY:Past Lives
DTSTART;TZID=Europe/Berlin:20240405T193000
DTSTAMP:20260422T005259Z
UID:454b7339b0c74ddfb683c690985ab795@zmi.spielboden.at
CREATED:20240215T095620Z
LAST-MODIFIED:20240403T081818Z
URL:https://zmi.spielboden.at/Plone/veranstaltungen/2024/04_april/past-liv
 es
END:VEVENT
BEGIN:VTIMEZONE
TZID:Europe/Berlin
X-LIC-LOCATION:Europe/Berlin
BEGIN:DAYLIGHT
DTSTART:20240331T030000
TZNAME:CEST
TZOFFSETFROM:+0100
TZOFFSETTO:+0200
END:DAYLIGHT
END:VTIMEZONE
END:VCALENDAR
