BEGIN:VCALENDAR
VERSION:2.0
PRODID:-//Plone.org//NONSGML plone.app.event//EN
X-WR-TIMEZONE:Europe/Berlin
BEGIN:VEVENT
SUMMARY:Nachlass
DTSTART;TZID=Europe/Berlin:20240410T193000
DTSTAMP:20260424T102118Z
UID:2cc6a76743fa46a7906750f1b9773a43@zmi.spielboden.at
CREATED:20240215T102844Z
LAST-MODIFIED:20240410T101503Z
URL:https://zmi.spielboden.at/Plone/veranstaltungen/2024/04_april/nachlass
END:VEVENT
BEGIN:VTIMEZONE
TZID:Europe/Berlin
X-LIC-LOCATION:Europe/Berlin
BEGIN:DAYLIGHT
DTSTART:20240331T030000
TZNAME:CEST
TZOFFSETFROM:+0100
TZOFFSETTO:+0200
END:DAYLIGHT
END:VTIMEZONE
END:VCALENDAR
