BEGIN:VCALENDAR
VERSION:2.0
PRODID:-//Plone.org//NONSGML plone.app.event//EN
X-WR-TIMEZONE:Europe/Berlin
BEGIN:VEVENT
SUMMARY:Nachlass
DTSTART;TZID=Europe/Berlin:20240425T193000
DTSTAMP:20260422T005110Z
UID:c18e7997ce5d490bb1039845a2453870@zmi.spielboden.at
CREATED:20240215T104234Z
LAST-MODIFIED:20240215T104319Z
URL:https://zmi.spielboden.at/Plone/veranstaltungen/2024/04_april/nachlass
 -1
END:VEVENT
BEGIN:VTIMEZONE
TZID:Europe/Berlin
X-LIC-LOCATION:Europe/Berlin
BEGIN:DAYLIGHT
DTSTART:20240331T030000
TZNAME:CEST
TZOFFSETFROM:+0100
TZOFFSETTO:+0200
END:DAYLIGHT
END:VTIMEZONE
END:VCALENDAR
