BEGIN:VCALENDAR
VERSION:2.0
PRODID:-//Plone.org//NONSGML plone.app.event//EN
X-WR-TIMEZONE:Europe/Berlin
BEGIN:VEVENT
SUMMARY:Maria Montessori
DTSTART;TZID=Europe/Berlin:20240406T193000
DTSTAMP:20260422T005326Z
UID:87bc9414db5e4ac5b5158fc0e538e48b@zmi.spielboden.at
CREATED:20240220T083504Z
LAST-MODIFIED:20240406T152444Z
URL:https://zmi.spielboden.at/Plone/veranstaltungen/2024/04_april/maria-mo
 ntessori
END:VEVENT
BEGIN:VTIMEZONE
TZID:Europe/Berlin
X-LIC-LOCATION:Europe/Berlin
BEGIN:DAYLIGHT
DTSTART:20240331T030000
TZNAME:CEST
TZOFFSETFROM:+0100
TZOFFSETTO:+0200
END:DAYLIGHT
END:VTIMEZONE
END:VCALENDAR
