BEGIN:VCALENDAR
VERSION:2.0
PRODID:-//Plone.org//NONSGML plone.app.event//EN
X-WR-TIMEZONE:Europe/Berlin
BEGIN:VEVENT
SUMMARY:Maria Montessori
DTSTART;TZID=Europe/Berlin:20240423T193000
DTSTAMP:20260424T124521Z
UID:32529b0f12c6401f94a6cb4ea1911b15@zmi.spielboden.at
CREATED:20240220T083823Z
LAST-MODIFIED:20240423T143912Z
URL:https://zmi.spielboden.at/Plone/veranstaltungen/2024/04_april/maria-mo
 ntessori-1
END:VEVENT
BEGIN:VTIMEZONE
TZID:Europe/Berlin
X-LIC-LOCATION:Europe/Berlin
BEGIN:DAYLIGHT
DTSTART:20240331T030000
TZNAME:CEST
TZOFFSETFROM:+0100
TZOFFSETTO:+0200
END:DAYLIGHT
END:VTIMEZONE
END:VCALENDAR
