BEGIN:VCALENDAR
VERSION:2.0
PRODID:-//Plone.org//NONSGML plone.app.event//EN
X-WR-TIMEZONE:Europe/Berlin
BEGIN:VEVENT
SUMMARY:Joyland
DTSTART;TZID=Europe/Berlin:20240419T193000
DTSTAMP:20260422T064107Z
UID:bff643863608464a8a6730db8e23cfd1@zmi.spielboden.at
CREATED:20240215T102433Z
LAST-MODIFIED:20240215T102511Z
URL:https://zmi.spielboden.at/Plone/veranstaltungen/2024/04_april/joyland-
 1
END:VEVENT
BEGIN:VTIMEZONE
TZID:Europe/Berlin
X-LIC-LOCATION:Europe/Berlin
BEGIN:DAYLIGHT
DTSTART:20240331T030000
TZNAME:CEST
TZOFFSETFROM:+0100
TZOFFSETTO:+0200
END:DAYLIGHT
END:VTIMEZONE
END:VCALENDAR
