BEGIN:VCALENDAR
VERSION:2.0
PRODID:-//Plone.org//NONSGML plone.app.event//EN
X-WR-TIMEZONE:Europe/Berlin
BEGIN:VEVENT
SUMMARY:Johnny and the Rotten + TV Nights
DTSTART;TZID=Europe/Berlin:20240412T210000
DTSTAMP:20260422T035221Z
UID:7226269a934746f2982657b14bd7905b@zmi.spielboden.at
CREATED:20240226T083211Z
LAST-MODIFIED:20240412T123948Z
URL:https://zmi.spielboden.at/Plone/veranstaltungen/2024/04_april/johny-th
 e-rotten
END:VEVENT
BEGIN:VTIMEZONE
TZID:Europe/Berlin
X-LIC-LOCATION:Europe/Berlin
BEGIN:DAYLIGHT
DTSTART:20240331T030000
TZNAME:CEST
TZOFFSETFROM:+0100
TZOFFSETTO:+0200
END:DAYLIGHT
END:VTIMEZONE
END:VCALENDAR
