BEGIN:VCALENDAR
VERSION:2.0
PRODID:-//Plone.org//NONSGML plone.app.event//EN
X-WR-TIMEZONE:Europe/Berlin
BEGIN:VEVENT
SUMMARY:Hörbar: Linksabbiega
DTSTART;TZID=Europe/Berlin:20240430T210000
DTSTAMP:20260422T070234Z
UID:7862521cedf34cd694ae21a5fcde75ab@zmi.spielboden.at
CREATED:20240305T133434Z
LAST-MODIFIED:20240429T060233Z
URL:https://zmi.spielboden.at/Plone/veranstaltungen/2024/04_april/hoerbar-
 linksabbiega
END:VEVENT
BEGIN:VTIMEZONE
TZID:Europe/Berlin
X-LIC-LOCATION:Europe/Berlin
BEGIN:DAYLIGHT
DTSTART:20240331T030000
TZNAME:CEST
TZOFFSETFROM:+0100
TZOFFSETTO:+0200
END:DAYLIGHT
END:VTIMEZONE
END:VCALENDAR
