BEGIN:VCALENDAR
VERSION:2.0
PRODID:-//Plone.org//NONSGML plone.app.event//EN
X-WR-TIMEZONE:Europe/Berlin
BEGIN:VEVENT
SUMMARY:GoWest Bunte Streifen: All Of Us Strangers
DTSTART;TZID=Europe/Berlin:20240427T170000
DTSTAMP:20260422T022842Z
UID:45424b830e5a48c1861cd159deaa21ba@zmi.spielboden.at
CREATED:20240306T100320Z
LAST-MODIFIED:20240424T135827Z
URL:https://zmi.spielboden.at/Plone/veranstaltungen/2024/04_april/gowest-b
 unte-streifen-all-of-us-strangers
END:VEVENT
BEGIN:VTIMEZONE
TZID:Europe/Berlin
X-LIC-LOCATION:Europe/Berlin
BEGIN:DAYLIGHT
DTSTART:20240331T030000
TZNAME:CEST
TZOFFSETFROM:+0100
TZOFFSETTO:+0200
END:DAYLIGHT
END:VTIMEZONE
END:VCALENDAR
