BEGIN:VCALENDAR
VERSION:2.0
PRODID:-//Plone.org//NONSGML plone.app.event//EN
X-WR-TIMEZONE:Europe/Berlin
BEGIN:VEVENT
SUMMARY:Dumb Money
DTSTART;TZID=Europe/Berlin:20240416T193000
DTSTAMP:20260425T211338Z
UID:1bd36b7f4b31492bab56d30bcf99dd98@zmi.spielboden.at
CREATED:20240215T105005Z
LAST-MODIFIED:20240411T075332Z
URL:https://zmi.spielboden.at/Plone/veranstaltungen/2024/04_april/dumb-mon
 ey
END:VEVENT
BEGIN:VTIMEZONE
TZID:Europe/Berlin
X-LIC-LOCATION:Europe/Berlin
BEGIN:DAYLIGHT
DTSTART:20240331T030000
TZNAME:CEST
TZOFFSETFROM:+0100
TZOFFSETTO:+0200
END:DAYLIGHT
END:VTIMEZONE
END:VCALENDAR
