BEGIN:VCALENDAR
VERSION:2.0
PRODID:-//Plone.org//NONSGML plone.app.event//EN
X-WR-TIMEZONE:Europe/Berlin
BEGIN:VEVENT
SUMMARY:Crossing Europe zeigt Disco Boy
DTSTART;TZID=Europe/Berlin:20240402T193000
DTSTAMP:20260422T022531Z
UID:10b79f82423d45abb85b7dd26ed05d0d@zmi.spielboden.at
CREATED:20240215T100749Z
LAST-MODIFIED:20240402T093211Z
URL:https://zmi.spielboden.at/Plone/veranstaltungen/2024/04_april/crossing
 -europe-zeigt-disco-boy
END:VEVENT
BEGIN:VTIMEZONE
TZID:Europe/Berlin
X-LIC-LOCATION:Europe/Berlin
BEGIN:DAYLIGHT
DTSTART:20240331T030000
TZNAME:CEST
TZOFFSETFROM:+0100
TZOFFSETTO:+0200
END:DAYLIGHT
END:VTIMEZONE
END:VCALENDAR
