BEGIN:VCALENDAR
VERSION:2.0
PRODID:-//Plone.org//NONSGML plone.app.event//EN
X-WR-TIMEZONE:Europe/Berlin
BEGIN:VEVENT
SUMMARY:Crossing Europe zeigt Disco Boy
DTSTART;TZID=Europe/Berlin:20240411T193000
DTSTAMP:20260422T022517Z
UID:f7daa88b4adb42af8056a7b8048a6fd6@zmi.spielboden.at
CREATED:20240215T101137Z
LAST-MODIFIED:20240215T101235Z
URL:https://zmi.spielboden.at/Plone/veranstaltungen/2024/04_april/crossing
 -europe-zeigt-disco-boy-1
END:VEVENT
BEGIN:VTIMEZONE
TZID:Europe/Berlin
X-LIC-LOCATION:Europe/Berlin
BEGIN:DAYLIGHT
DTSTART:20240331T030000
TZNAME:CEST
TZOFFSETFROM:+0100
TZOFFSETTO:+0200
END:DAYLIGHT
END:VTIMEZONE
END:VCALENDAR
