BEGIN:VCALENDAR
VERSION:2.0
PRODID:-//Plone.org//NONSGML plone.app.event//EN
X-WR-TIMEZONE:Europe/Berlin
BEGIN:VEVENT
SUMMARY:Breaking Social – Können wir uns die Reichen leisten?
DTSTART;TZID=Europe/Berlin:20240417T193000
DTSTAMP:20260422T021138Z
UID:dc9fe4eb57bd426fb01e4de04dd7070d@zmi.spielboden.at
CREATED:20240220T092040Z
LAST-MODIFIED:20240417T132723Z
URL:https://zmi.spielboden.at/Plone/veranstaltungen/2024/04_april/breaking
 -social
END:VEVENT
BEGIN:VTIMEZONE
TZID:Europe/Berlin
X-LIC-LOCATION:Europe/Berlin
BEGIN:DAYLIGHT
DTSTART:20240331T030000
TZNAME:CEST
TZOFFSETFROM:+0100
TZOFFSETTO:+0200
END:DAYLIGHT
END:VTIMEZONE
END:VCALENDAR
