BEGIN:VCALENDAR
VERSION:2.0
PRODID:-//Plone.org//NONSGML plone.app.event//EN
X-WR-TIMEZONE:Europe/Berlin
BEGIN:VEVENT
SUMMARY:Breaking Social
DTSTART;TZID=Europe/Berlin:20240426T193000
DTSTAMP:20260422T051224Z
UID:7ac1984afc944606833e66003d30ee01@zmi.spielboden.at
CREATED:20240220T095052Z
LAST-MODIFIED:20240426T125516Z
URL:https://zmi.spielboden.at/Plone/veranstaltungen/2024/04_april/breaking
 -social-1
END:VEVENT
BEGIN:VTIMEZONE
TZID:Europe/Berlin
X-LIC-LOCATION:Europe/Berlin
BEGIN:DAYLIGHT
DTSTART:20240331T030000
TZNAME:CEST
TZOFFSETFROM:+0100
TZOFFSETTO:+0200
END:DAYLIGHT
END:VTIMEZONE
END:VCALENDAR
