BEGIN:VCALENDAR
VERSION:2.0
PRODID:-//Plone.org//NONSGML plone.app.event//EN
X-WR-TIMEZONE:Europe/Berlin
BEGIN:VEVENT
SUMMARY:Internationales Liederfest 1001 Heimat – So singen die Nachbar:i
 nnen
DTSTART;TZID=Europe/Berlin:20240411T190000
DTSTAMP:20260422T022645Z
UID:c40518d37a3844b58f0e7042fa7a5154@zmi.spielboden.at
CREATED:20240215T095139Z
LAST-MODIFIED:20240411T082126Z
URL:https://zmi.spielboden.at/Plone/veranstaltungen/2024/04_april/bella-ci
 ao-pata-pata-1001-heimat
END:VEVENT
BEGIN:VTIMEZONE
TZID:Europe/Berlin
X-LIC-LOCATION:Europe/Berlin
BEGIN:DAYLIGHT
DTSTART:20240331T030000
TZNAME:CEST
TZOFFSETFROM:+0100
TZOFFSETTO:+0200
END:DAYLIGHT
END:VTIMEZONE
END:VCALENDAR
