BEGIN:VCALENDAR
VERSION:2.0
PRODID:-//Plone.org//NONSGML plone.app.event//EN
X-WR-TIMEZONE:Europe/Berlin
BEGIN:VEVENT
SUMMARY:Pub Quiz
DTSTART;TZID=Europe/Berlin:20240326T193000
DTSTAMP:20260421T115608Z
UID:32dcaf1878af42279fdd8292c00e2599@zmi.spielboden.at
CREATED:20240111T091951Z
LAST-MODIFIED:20240208T064643Z
URL:https://zmi.spielboden.at/Plone/veranstaltungen/2024/03_maerz/pub-quiz
END:VEVENT
BEGIN:VTIMEZONE
TZID:Europe/Berlin
X-LIC-LOCATION:Europe/Berlin
BEGIN:STANDARD
DTSTART:20231029T020000
TZNAME:CET
TZOFFSETFROM:+0200
TZOFFSETTO:+0100
END:STANDARD
END:VTIMEZONE
END:VCALENDAR
