BEGIN:VCALENDAR
VERSION:2.0
PRODID:-//Plone.org//NONSGML plone.app.event//EN
X-WR-TIMEZONE:Europe/Berlin
BEGIN:VEVENT
SUMMARY:You Only Die Twice – Der Mann\, der zweimal starb
DTSTART;TZID=Europe/Berlin:20240207T193000
DTSTAMP:20260421T120932Z
UID:f82e5393e7644233b5e7542dec5e2a0e@zmi.spielboden.at
CREATED:20231207T105114Z
LAST-MODIFIED:20231207T110233Z
URL:https://zmi.spielboden.at/Plone/veranstaltungen/2024/02_februar/you-on
 ly-die-twice-der-mann-der-zweimal-starb
END:VEVENT
BEGIN:VTIMEZONE
TZID:Europe/Berlin
X-LIC-LOCATION:Europe/Berlin
BEGIN:STANDARD
DTSTART:20231029T020000
TZNAME:CET
TZOFFSETFROM:+0200
TZOFFSETTO:+0100
END:STANDARD
END:VTIMEZONE
END:VCALENDAR
