BEGIN:VCALENDAR
VERSION:2.0
PRODID:-//Plone.org//NONSGML plone.app.event//EN
X-WR-TIMEZONE:Europe/Berlin
BEGIN:VEVENT
SUMMARY:Tottori! – Kopfüber ins Abenteuer!
DTSTART;TZID=Europe/Berlin:20240106T150000
DTSTAMP:20260421T175843Z
UID:d0632f65637d403c8726fde61fc6aeec@zmi.spielboden.at
CREATED:20231130T080709Z
LAST-MODIFIED:20240105T133752Z
URL:https://zmi.spielboden.at/Plone/veranstaltungen/2024/01_jaenner/tottor
 i-kopfueber-ins-abenteuer
END:VEVENT
BEGIN:VTIMEZONE
TZID:Europe/Berlin
X-LIC-LOCATION:Europe/Berlin
BEGIN:STANDARD
DTSTART:20231029T020000
TZNAME:CET
TZOFFSETFROM:+0200
TZOFFSETTO:+0100
END:STANDARD
END:VTIMEZONE
END:VCALENDAR
