BEGIN:VCALENDAR
VERSION:2.0
PRODID:-//Plone.org//NONSGML plone.app.event//EN
X-WR-TIMEZONE:Europe/Berlin
BEGIN:VEVENT
SUMMARY:Thomas Schütte - Ich bin nicht allein
DTSTART;TZID=Europe/Berlin:20240106T193000
DTSTAMP:20260421T175409Z
UID:0dc47b75b8a748288fd811b749a67c21@zmi.spielboden.at
CREATED:20231221T132631Z
LAST-MODIFIED:20231221T133148Z
URL:https://zmi.spielboden.at/Plone/veranstaltungen/2024/01_jaenner/thomas
 -schuette-ich-bin-nicht-allein
END:VEVENT
BEGIN:VTIMEZONE
TZID:Europe/Berlin
X-LIC-LOCATION:Europe/Berlin
BEGIN:STANDARD
DTSTART:20231029T020000
TZNAME:CET
TZOFFSETFROM:+0200
TZOFFSETTO:+0100
END:STANDARD
END:VTIMEZONE
END:VCALENDAR
