BEGIN:VCALENDAR
VERSION:2.0
PRODID:-//Plone.org//NONSGML plone.app.event//EN
X-WR-TIMEZONE:Europe/Berlin
BEGIN:VEVENT
SUMMARY:Thomas Schütte - Ich bin nicht allein
DTSTART;TZID=Europe/Berlin:20240112T193000
DTSTAMP:20260421T194151Z
UID:215e25c64acd4a3881a0c87974bdcf6a@zmi.spielboden.at
CREATED:20231221T132938Z
LAST-MODIFIED:20231221T133002Z
URL:https://zmi.spielboden.at/Plone/veranstaltungen/2024/01_jaenner/thomas
 -schuette-ich-bin-nicht-allein-1
END:VEVENT
BEGIN:VTIMEZONE
TZID:Europe/Berlin
X-LIC-LOCATION:Europe/Berlin
BEGIN:STANDARD
DTSTART:20231029T020000
TZNAME:CET
TZOFFSETFROM:+0200
TZOFFSETTO:+0100
END:STANDARD
END:VTIMEZONE
END:VCALENDAR
