BEGIN:VCALENDAR
VERSION:2.0
PRODID:-//Plone.org//NONSGML plone.app.event//EN
X-WR-TIMEZONE:Europe/Berlin
BEGIN:VEVENT
SUMMARY:Perfect Days
DTSTART;TZID=Europe/Berlin:20240130T193000
DTSTAMP:20260422T021634Z
UID:7c64cbf4ae8d4ccda8f89ee084a911a3@zmi.spielboden.at
CREATED:20231221T135212Z
LAST-MODIFIED:20240130T172121Z
URL:https://zmi.spielboden.at/Plone/veranstaltungen/2024/01_jaenner/perfec
 t-days-1
END:VEVENT
BEGIN:VTIMEZONE
TZID:Europe/Berlin
X-LIC-LOCATION:Europe/Berlin
BEGIN:STANDARD
DTSTART:20231029T020000
TZNAME:CET
TZOFFSETFROM:+0200
TZOFFSETTO:+0100
END:STANDARD
END:VTIMEZONE
END:VCALENDAR
