BEGIN:VCALENDAR
VERSION:2.0
PRODID:-//Plone.org//NONSGML plone.app.event//EN
X-WR-TIMEZONE:Europe/Berlin
BEGIN:VEVENT
SUMMARY:maschek - Das war 2023
DTSTART;TZID=Europe/Berlin:20240113T200000
DTSTAMP:20260421T233450Z
UID:cf7136bb841945a89018026a57614931@zmi.spielboden.at
CREATED:20231030T074109Z
LAST-MODIFIED:20240113T140715Z
URL:https://zmi.spielboden.at/Plone/veranstaltungen/2024/01_jaenner/masche
 k-das-war-2023-1
END:VEVENT
BEGIN:VTIMEZONE
TZID:Europe/Berlin
X-LIC-LOCATION:Europe/Berlin
BEGIN:STANDARD
DTSTART:20231029T020000
TZNAME:CET
TZOFFSETFROM:+0200
TZOFFSETTO:+0100
END:STANDARD
END:VTIMEZONE
END:VCALENDAR
