BEGIN:VCALENDAR
VERSION:2.0
PRODID:-//Plone.org//NONSGML plone.app.event//EN
X-WR-TIMEZONE:Europe/Berlin
BEGIN:VEVENT
SUMMARY:Lille Kartofler Figurentheater: Der Froschkönig
DTSTART;TZID=Europe/Berlin:20240113T150000
DTSTAMP:20260421T164353Z
UID:b28d4d3cd6a54355a9359103433b5f91@zmi.spielboden.at
CREATED:20230726T073322Z
DESCRIPTION:Figurentheater ab 4 Jahren.
LAST-MODIFIED:20240113T095102Z
URL:https://zmi.spielboden.at/Plone/veranstaltungen/2024/01_jaenner/lille-
 kartofler-figurentheater-der-froschkoenig
END:VEVENT
BEGIN:VTIMEZONE
TZID:Europe/Berlin
X-LIC-LOCATION:Europe/Berlin
BEGIN:STANDARD
DTSTART:20231029T020000
TZNAME:CET
TZOFFSETFROM:+0200
TZOFFSETTO:+0100
END:STANDARD
END:VTIMEZONE
END:VCALENDAR
