BEGIN:VCALENDAR
VERSION:2.0
PRODID:-//Plone.org//NONSGML plone.app.event//EN
X-WR-TIMEZONE:Europe/Berlin
BEGIN:VEVENT
SUMMARY:Krebshilfe Benefizkonzert - ALMOST DONE
DTSTART;TZID=Europe/Berlin:20240105T203000
DTSTAMP:20260421T205451Z
UID:513136910d0f41479c1c9a89bb248272@zmi.spielboden.at
CREATED:20231017T111658Z
LAST-MODIFIED:20240105T112116Z
URL:https://zmi.spielboden.at/Plone/veranstaltungen/2024/01_jaenner/krebsh
 ilfe-benefizkonzert-almost-done
END:VEVENT
BEGIN:VTIMEZONE
TZID:Europe/Berlin
X-LIC-LOCATION:Europe/Berlin
BEGIN:STANDARD
DTSTART:20231029T020000
TZNAME:CET
TZOFFSETFROM:+0200
TZOFFSETTO:+0100
END:STANDARD
END:VTIMEZONE
END:VCALENDAR
