BEGIN:VCALENDAR
VERSION:2.0
PRODID:-//Plone.org//NONSGML plone.app.event//EN
X-WR-TIMEZONE:Europe/Berlin
BEGIN:VEVENT
SUMMARY:Junipa Gold + Velvet Wasted
DTSTART;TZID=Europe/Berlin:20240111T210000
DTSTAMP:20260426T040518Z
UID:d78bbf5cee324e079674db11222a02a1@zmi.spielboden.at
CREATED:20230922T070157Z
LAST-MODIFIED:20240111T171812Z
URL:https://zmi.spielboden.at/Plone/veranstaltungen/2024/01_jaenner/junipa
 -gold
END:VEVENT
BEGIN:VTIMEZONE
TZID:Europe/Berlin
X-LIC-LOCATION:Europe/Berlin
BEGIN:STANDARD
DTSTART:20231029T020000
TZNAME:CET
TZOFFSETFROM:+0200
TZOFFSETTO:+0100
END:STANDARD
END:VTIMEZONE
END:VCALENDAR
