BEGIN:VCALENDAR
VERSION:2.0
PRODID:-//Plone.org//NONSGML plone.app.event//EN
X-WR-TIMEZONE:Europe/Berlin
BEGIN:VEVENT
SUMMARY:Hollywood Glam Silvester Party
DTSTART;TZID=Europe/Berlin:20241231T220000
DTSTAMP:20260426T025515Z
UID:bcdfb2c363f349758824c5963a1fd6ed@zmi.spielboden.at
CREATED:20241211T152341Z
LAST-MODIFIED:20241226T171800Z
URL:https://zmi.spielboden.at/Plone/veranstaltungen/2024/01_jaenner/hollyw
 ood-glam-silvester-party
END:VEVENT
BEGIN:VTIMEZONE
TZID:Europe/Berlin
X-LIC-LOCATION:Europe/Berlin
BEGIN:STANDARD
DTSTART:20241027T020000
TZNAME:CET
TZOFFSETFROM:+0200
TZOFFSETTO:+0100
END:STANDARD
END:VTIMEZONE
END:VCALENDAR
