BEGIN:VCALENDAR
VERSION:2.0
PRODID:-//Plone.org//NONSGML plone.app.event//EN
X-WR-TIMEZONE:Europe/Berlin
BEGIN:VEVENT
SUMMARY:Heather Nova with Arnulf Lindner
DTSTART;TZID=Europe/Berlin:20240131T203000
DTSTAMP:20260421T173820Z
UID:a4055579138e4a0ebbc498e7bfdba5ed@zmi.spielboden.at
CREATED:20231121T081146Z
LAST-MODIFIED:20240131T171427Z
URL:https://zmi.spielboden.at/Plone/veranstaltungen/2024/01_jaenner/heathe
 r-nova
END:VEVENT
BEGIN:VTIMEZONE
TZID:Europe/Berlin
X-LIC-LOCATION:Europe/Berlin
BEGIN:STANDARD
DTSTART:20231029T020000
TZNAME:CET
TZOFFSETFROM:+0200
TZOFFSETTO:+0100
END:STANDARD
END:VTIMEZONE
END:VCALENDAR
