BEGIN:VCALENDAR
VERSION:2.0
PRODID:-//Plone.org//NONSGML plone.app.event//EN
X-WR-TIMEZONE:Europe/Berlin
BEGIN:VEVENT
SUMMARY:Gratis Neujahrskonzert - Ohony
DTSTART;TZID=Europe/Berlin:20240103T210000
DTSTAMP:20260424T134331Z
UID:b27af67db77c43dbb4b64352ee027e3c@zmi.spielboden.at
CREATED:20231211T073619Z
LAST-MODIFIED:20231227T064843Z
URL:https://zmi.spielboden.at/Plone/veranstaltungen/2024/01_jaenner/gratis
 -neujahrskonzert-ohony
END:VEVENT
BEGIN:VTIMEZONE
TZID:Europe/Berlin
X-LIC-LOCATION:Europe/Berlin
BEGIN:STANDARD
DTSTART:20231029T020000
TZNAME:CET
TZOFFSETFROM:+0200
TZOFFSETTO:+0100
END:STANDARD
END:VTIMEZONE
END:VCALENDAR
