BEGIN:VCALENDAR
VERSION:2.0
PRODID:-//Plone.org//NONSGML plone.app.event//EN
X-WR-TIMEZONE:Europe/Berlin
BEGIN:VEVENT
SUMMARY:Gratis Neujahrskonzert - Linksabbiega
DTSTART;TZID=Europe/Berlin:20240104T210000
DTSTAMP:20260421T181632Z
UID:26831380dc2c48279d92d53eda7af96c@zmi.spielboden.at
CREATED:20231128T091113Z
LAST-MODIFIED:20240104T064719Z
URL:https://zmi.spielboden.at/Plone/veranstaltungen/2024/01_jaenner/gratis
 -neujahrskonzert-linksabbiega
END:VEVENT
BEGIN:VTIMEZONE
TZID:Europe/Berlin
X-LIC-LOCATION:Europe/Berlin
BEGIN:STANDARD
DTSTART:20231029T020000
TZNAME:CET
TZOFFSETFROM:+0200
TZOFFSETTO:+0100
END:STANDARD
END:VTIMEZONE
END:VCALENDAR
