BEGIN:VCALENDAR
VERSION:2.0
PRODID:-//Plone.org//NONSGML plone.app.event//EN
X-WR-TIMEZONE:Europe/Berlin
BEGIN:VEVENT
SUMMARY:Grade 2
DTSTART;TZID=Europe/Berlin:20240128T203000
DTSTAMP:20260423T184104Z
UID:bcd7af968c1f46729a67e2373331bc40@zmi.spielboden.at
CREATED:20231103T105005Z
LAST-MODIFIED:20240128T132320Z
URL:https://zmi.spielboden.at/Plone/veranstaltungen/2024/01_jaenner/grade-
 2
END:VEVENT
BEGIN:VTIMEZONE
TZID:Europe/Berlin
X-LIC-LOCATION:Europe/Berlin
BEGIN:STANDARD
DTSTART:20231029T020000
TZNAME:CET
TZOFFSETFROM:+0200
TZOFFSETTO:+0100
END:STANDARD
END:VTIMEZONE
END:VCALENDAR
