BEGIN:VCALENDAR
VERSION:2.0
PRODID:-//Plone.org//NONSGML plone.app.event//EN
X-WR-TIMEZONE:Europe/Berlin
BEGIN:VEVENT
SUMMARY:Dr. Love's POPaganda! Vinyl only! Rock\, Pop\, Garage\, Punk...
DTSTART;TZID=Europe/Berlin:20240420T220000
DTSTAMP:20260425T210607Z
UID:287384d7798243ff9b6eb6d756e814d8@zmi.spielboden.at
CREATED:20231229T064502Z
LAST-MODIFIED:20240417T102135Z
URL:https://zmi.spielboden.at/Plone/veranstaltungen/2024/01_jaenner/dr-lov
 es-popaganda-vinyl-only-punk-rock-pop-garage
END:VEVENT
BEGIN:VTIMEZONE
TZID:Europe/Berlin
X-LIC-LOCATION:Europe/Berlin
BEGIN:DAYLIGHT
DTSTART:20240331T030000
TZNAME:CEST
TZOFFSETFROM:+0100
TZOFFSETTO:+0200
END:DAYLIGHT
END:VTIMEZONE
END:VCALENDAR
