BEGIN:VCALENDAR
VERSION:2.0
PRODID:-//Plone.org//NONSGML plone.app.event//EN
X-WR-TIMEZONE:Europe/Berlin
BEGIN:VEVENT
SUMMARY:DJ Idaho
DTSTART;TZID=Europe/Berlin:20240112T210000
DTSTAMP:20260421T233353Z
UID:7e5080fa99564388900f0a3a703cab91@zmi.spielboden.at
CREATED:20231227T163836Z
LAST-MODIFIED:20240105T075908Z
URL:https://zmi.spielboden.at/Plone/veranstaltungen/2024/01_jaenner/dj-ida
 ho
END:VEVENT
BEGIN:VTIMEZONE
TZID:Europe/Berlin
X-LIC-LOCATION:Europe/Berlin
BEGIN:STANDARD
DTSTART:20231029T020000
TZNAME:CET
TZOFFSETFROM:+0200
TZOFFSETTO:+0100
END:STANDARD
END:VTIMEZONE
END:VCALENDAR
