BEGIN:VCALENDAR
VERSION:2.0
PRODID:-//Plone.org//NONSGML plone.app.event//EN
X-WR-TIMEZONE:Europe/Berlin
BEGIN:VEVENT
SUMMARY:Club Zero
DTSTART;TZID=Europe/Berlin:20240102T193000
DTSTAMP:20260421T203747Z
UID:b44af6d24bc84a58815278d42c0f713a@zmi.spielboden.at
CREATED:20231130T075906Z
LAST-MODIFIED:20240102T141718Z
URL:https://zmi.spielboden.at/Plone/veranstaltungen/2024/01_jaenner/club-z
 ero
END:VEVENT
BEGIN:VTIMEZONE
TZID:Europe/Berlin
X-LIC-LOCATION:Europe/Berlin
BEGIN:STANDARD
DTSTART:20231029T020000
TZNAME:CET
TZOFFSETFROM:+0200
TZOFFSETTO:+0100
END:STANDARD
END:VTIMEZONE
END:VCALENDAR
