BEGIN:VCALENDAR
VERSION:2.0
PRODID:-//Plone.org//NONSGML plone.app.event//EN
X-WR-TIMEZONE:Europe/Berlin
BEGIN:VEVENT
SUMMARY:Club Zero
DTSTART;TZID=Europe/Berlin:20240313T193000
DTSTAMP:20260421T175246Z
UID:5a3907c243844452a3ec715004d020bd@zmi.spielboden.at
CREATED:20231130T080218Z
LAST-MODIFIED:20240313T140731Z
URL:https://zmi.spielboden.at/Plone/veranstaltungen/2024/01_jaenner/club-z
 ero-1
END:VEVENT
BEGIN:VTIMEZONE
TZID:Europe/Berlin
X-LIC-LOCATION:Europe/Berlin
BEGIN:STANDARD
DTSTART:20231029T020000
TZNAME:CET
TZOFFSETFROM:+0200
TZOFFSETTO:+0100
END:STANDARD
END:VTIMEZONE
END:VCALENDAR
