BEGIN:VCALENDAR
VERSION:2.0
PRODID:-//Plone.org//NONSGML plone.app.event//EN
X-WR-TIMEZONE:Europe/Berlin
BEGIN:VEVENT
SUMMARY:Cinema Sabaya
DTSTART;TZID=Europe/Berlin:20240319T193000
DTSTAMP:20260421T205134Z
UID:8f570dfb672b4100be2b1eb86b1dfe9f@zmi.spielboden.at
CREATED:20231114T120124Z
LAST-MODIFIED:20240123T143023Z
URL:https://zmi.spielboden.at/Plone/veranstaltungen/2024/01_jaenner/cinema
 -sabaya
END:VEVENT
BEGIN:VTIMEZONE
TZID:Europe/Berlin
X-LIC-LOCATION:Europe/Berlin
BEGIN:STANDARD
DTSTART:20231029T020000
TZNAME:CET
TZOFFSETFROM:+0200
TZOFFSETTO:+0100
END:STANDARD
END:VTIMEZONE
END:VCALENDAR
