BEGIN:VCALENDAR
VERSION:2.0
PRODID:-//Plone.org//NONSGML plone.app.event//EN
X-WR-TIMEZONE:Europe/Berlin
BEGIN:VEVENT
SUMMARY:Back to the Fatherland
DTSTART;TZID=Europe/Berlin:20240111T193000
DTSTAMP:20260421T205251Z
UID:c7d54cf3b5f04140b639f04b9042c12c@zmi.spielboden.at
CREATED:20231130T074945Z
LAST-MODIFIED:20240111T170452Z
URL:https://zmi.spielboden.at/Plone/veranstaltungen/2024/01_jaenner/back-t
 o-the-fatherland
END:VEVENT
BEGIN:VTIMEZONE
TZID:Europe/Berlin
X-LIC-LOCATION:Europe/Berlin
BEGIN:STANDARD
DTSTART:20231029T020000
TZNAME:CET
TZOFFSETFROM:+0200
TZOFFSETTO:+0100
END:STANDARD
END:VTIMEZONE
END:VCALENDAR
